BEGIN:VCALENDAR
VERSION:2.0
PRODID:-//Piscina Club Providencia - ECPv5.11.0//NONSGML v1.0//EN
CALSCALE:GREGORIAN
METHOD:PUBLISH
X-WR-CALNAME:Piscina Club Providencia
X-ORIGINAL-URL:https://piscina.clubprovidencia.cl
X-WR-CALDESC:Eventos para Piscina Club Providencia
BEGIN:VTIMEZONE
TZID:UTC
BEGIN:STANDARD
TZOFFSETFROM:+0000
TZOFFSETTO:+0000
TZNAME:UTC
DTSTART:20260101T000000
END:STANDARD
END:VTIMEZONE
BEGIN:VEVENT
DTSTART;TZID=UTC:20260301T120000
DTEND;TZID=UTC:20260301T184500
DTSTAMP:20260421T073411
CREATED:20260224T122823Z
LAST-MODIFIED:20260224T122823Z
UID:2127539-1772366400-1772390700@piscina.clubprovidencia.cl
SUMMARY:Piscina Aire Libre - Domingo 01 de marzo
DESCRIPTION:Por favor\, ingrese su RUT para validar su tarjeta de vecino. Recuerde que el máximo permitido es de siete entradas por persona\, siempre que su tarjeta de vecino se encuentre activa.
URL:https://piscina.clubprovidencia.cl/evento/piscina-aire-libre-domingo-01-de-marzo-2025/
LOCATION:Club Providencia
CATEGORIES:Acceso Piscina
END:VEVENT
END:VCALENDAR