BEGIN:VCALENDAR
VERSION:2.0
PRODID:-//Piscina Club Providencia - ECPv5.11.0//NONSGML v1.0//EN
CALSCALE:GREGORIAN
METHOD:PUBLISH
X-WR-CALNAME:Piscina Club Providencia
X-ORIGINAL-URL:https://piscina.clubprovidencia.cl
X-WR-CALDESC:Eventos para Piscina Club Providencia
BEGIN:VTIMEZONE
TZID:UTC
BEGIN:STANDARD
TZOFFSETFROM:+0000
TZOFFSETTO:+0000
TZNAME:UTC
DTSTART:20240101T000000
END:STANDARD
END:VTIMEZONE
BEGIN:VEVENT
DTSTART;TZID=UTC:20241210T120000
DTEND;TZID=UTC:20241210T184500
DTSTAMP:20260420T092214
CREATED:20241112T181703Z
LAST-MODIFIED:20241206T213135Z
UID:2073818-1733832000-1733856300@piscina.clubprovidencia.cl
SUMMARY:Piscina Aire Libre - Martes 10 de diciembre
DESCRIPTION:Por favor\, ingrese su RUT para validar su tarjeta de vecino. Recuerde que el máximo permitido es de siete entradas por persona\, siempre que su tarjeta de vecino se encuentre activa.
URL:https://piscina.clubprovidencia.cl/evento/piscina-aire-libre-martes-10-de-diciembre/
LOCATION:Club Providencia
CATEGORIES:Acceso Piscina
END:VEVENT
END:VCALENDAR